BEGIN:VCALENDAR
VERSION:2.0
PRODID:-//The American Revolution Institute - ECPv5.0.3.1//NONSGML v1.0//EN
CALSCALE:GREGORIAN
METHOD:PUBLISH
X-WR-CALNAME:The American Revolution Institute
X-ORIGINAL-URL:https://www.americanrevolutioninstitute.org
X-WR-CALDESC:Events for The American Revolution Institute
BEGIN:VTIMEZONE
TZID:America/New_York
BEGIN:DAYLIGHT
TZOFFSETFROM:-0500
TZOFFSETTO:-0400
TZNAME:EDT
DTSTART:20220313T070000
END:DAYLIGHT
BEGIN:STANDARD
TZOFFSETFROM:-0400
TZOFFSETTO:-0500
TZNAME:EST
DTSTART:20221106T060000
END:STANDARD
END:VTIMEZONE
BEGIN:VEVENT
DTSTART;TZID=America/New_York:20221213T183000
DTEND;TZID=America/New_York:20221213T203000
DTSTAMP:20260419T144612
CREATED:20220816T133318Z
LAST-MODIFIED:20221130T155808Z
UID:22152-1670956200-1670963400@www.americanrevolutioninstitute.org
SUMMARY:Author's Talk - The Contagion of Liberty: The Politics of Smallpox in the American Revolution
DESCRIPTION:With a smallpox epidemic raging during the Revolutionary War\, Gen. George Washington was forced to order the mandatory inoculation of the Continental Army. Washington\, however\, did not have to convince fearful colonists to protect themselves against smallpox—they were the ones demanding it. In his new book\, The Contagion of Liberty: The Politics of Smallpox in the American Revolution\, Andrew Wehrman\, professor of history at Central Michigan University\, discusses how inoculation became the most sought-after medical procedure of the eighteenth century and how freedom from disease ultimately helped American colonists achieve independence from Great Britain. This thought-provoking history offers a new dimension to our understanding of both the American Revolution and the origins of public health in the United States. This program accompanies the exhibition Saving Soldiers: Medical Practice in the Revolutionary War\, now on display through December 13\, 2022. \nThe talk will last approximately 45 minutes\, followed by a book signing. Copies of the book will be available to purchase at the event. \nRegistration is requested. To attend the author’s talk in-person at Anderson House\, or to watch virtually\, please use the appropriate form below.\n\n  \nAbout the Speaker\nAndrew M. Wehrman is an associate professor of history at Central Michigan University. A winner of the Walter Muir Whitehill Prize in Early American History\, his writing has appeared in The New England Quarterly\, The Boston Globe and The Washington Post. \n  \nClick here to attend the author's talk virtually\n  \n
URL:https://www.americanrevolutioninstitute.org/event/authors-talk-the-contagion-of-liberty-the-politics-of-smallpox-in-the-american-revolution/
LOCATION:Anderson House\, 2118 Massachusetts Ave.\, NW\, Washington\, DC\, 20008\, United States
CATEGORIES:Lectures and Author’s Talks
ATTACH;FMTTYPE=image/png:https://www.americanrevolutioninstitute.org/wp-content/uploads/2022/08/Screen-Shot-2022-08-02-at-12.18.41-PM.png
END:VEVENT
END:VCALENDAR