BEGIN:VCALENDAR
VERSION:2.0
PRODID:-//The American Revolution Institute - ECPv5.0.3.1//NONSGML v1.0//EN
CALSCALE:GREGORIAN
METHOD:PUBLISH
X-WR-CALNAME:The American Revolution Institute
X-ORIGINAL-URL:https://www.americanrevolutioninstitute.org
X-WR-CALDESC:Events for The American Revolution Institute
BEGIN:VTIMEZONE
TZID:America/New_York
BEGIN:DAYLIGHT
TZOFFSETFROM:-0500
TZOFFSETTO:-0400
TZNAME:EDT
DTSTART:20230312T070000
END:DAYLIGHT
BEGIN:STANDARD
TZOFFSETFROM:-0400
TZOFFSETTO:-0500
TZNAME:EST
DTSTART:20231105T060000
END:STANDARD
END:VTIMEZONE
BEGIN:VEVENT
DTSTART;TZID=America/New_York:20231114T183000
DTEND;TZID=America/New_York:20231114T203000
DTSTAMP:20260421T114030
CREATED:20230819T194605Z
LAST-MODIFIED:20231105T164640Z
UID:25941-1699986600-1699993800@www.americanrevolutioninstitute.org
SUMMARY:Lecture - A Client State or a Great Power: Radicals vs. Moderates in the Diplomacy of the American Revolution
DESCRIPTION:During the Revolution\, American policymakers were divided into two factions—radicals and moderates. Radicals saw the United States as a great power\, equal to France and worthy of alliances with as many foreign powers as possible. Moderates\, however\, doubted American military power and were content to rely on military assistance from France alone. In each case\, battlefield results determined who held the upper hand when it came to diplomacy. Radicals prevailed when the war went well\, but power quickly shifted in favor of the moderates when it went poorly. In this lecture\, Robert Smith\, professor of history at Worcester State University\, discusses the turbulence surrounding American diplomacy during the Revolution and how the Treaty of Paris was the final diplomatic triumph for the radicals. \nThis program accompanies our current exhibition\, Affairs of State: 118 Years of Diplomacy and Entertaining at Anderson House\, on view through December 31. \nRegistration is requested. To attend the lecture in-person at Anderson House\, or to watch virtually\, please use the appropriate link below. \n  \nClick Here To Attend The Lecture In-Person At Anderson House \nClick Here To Attend The Lecture Virtually \n  \nAbout the Speaker\nRobert Smith is a professor and graduate coordinator at Worcester State University in Worcester\, Mass.\, where he teaches history and political science. He received his Ph.D. from the College of William and Mary\, and his research focuses on the history of American diplomacy and foreign relations\, American constitutional history\, English constitutional history\, the early American republic and the age of Jackson. Throughout his academic career\, he has authored several books and articles\, including Keeping the Republic: Ideology and Early American Diplomacy (Northern Illinois University Press\, 2004) and Amid a Warring World: Diplomacy and Foreign Policy in the Early Years of the American Republic (The University of Nebraska Press\, 2012). He is currently working on a study of Virginia’s foreign policy in the 1780s and the ratification of the Constitution. \n  \n  \n
URL:https://www.americanrevolutioninstitute.org/event/lecture-amid-a-warring-world-diplomacy-and-foreign-policy-in-the-early-years-of-the-american-republic/
LOCATION:Anderson House\, 2118 Massachusetts Ave.\, NW\, Washington\, DC\, 20008\, United States
CATEGORIES:Lectures and Author’s Talks
ATTACH;FMTTYPE=image/jpeg:https://www.americanrevolutioninstitute.org/wp-content/uploads/2023/08/Lecture-Amid-a-Warring-World.jpg
END:VEVENT
END:VCALENDAR