BEGIN:VCALENDAR
VERSION:2.0
PRODID:-//The American Revolution Institute - ECPv5.0.3.1//NONSGML v1.0//EN
CALSCALE:GREGORIAN
METHOD:PUBLISH
X-WR-CALNAME:The American Revolution Institute
X-ORIGINAL-URL:https://www.americanrevolutioninstitute.org
X-WR-CALDESC:Events for The American Revolution Institute
BEGIN:VTIMEZONE
TZID:America/New_York
BEGIN:DAYLIGHT
TZOFFSETFROM:-0500
TZOFFSETTO:-0400
TZNAME:EDT
DTSTART:20200308T070000
END:DAYLIGHT
BEGIN:STANDARD
TZOFFSETFROM:-0400
TZOFFSETTO:-0500
TZNAME:EST
DTSTART:20201101T060000
END:STANDARD
END:VTIMEZONE
BEGIN:VEVENT
DTSTART;TZID=America/New_York:20200220T174500
DTEND;TZID=America/New_York:20200220T200000
DTSTAMP:20260424T140723
CREATED:20200116T185824Z
LAST-MODIFIED:20200116T185824Z
UID:10510-1582220700-1582228800@www.americanrevolutioninstitute.org
SUMMARY:Lecture—Abigail Adams and America’s “Founding Mothers”
DESCRIPTION:Join the American Revolution Institute for a special lecture and reception in Charleston\, South Carolina\, at The Charleston Museum. \nThe heroines of the American Revolution are underappreciated\, yet their stories are inspiring and exciting. Woody Holton\, one of the nation’s preeminent scholars on women’s leadership during the founding era\, discusses the efforts of Abigail Adams and other unsung women of the Revolution. His book Abigail Adams is an award-winning and much-celebrated work. \nThe evening begins with a reception at 5:45 p.m. followed by the lecture at 6:30 p.m. Reservations are required for this event and tickets are $35 per person. \nThank you to our partners for this event: The Charleston Museum\, the Eliza Lucas Pinckney Chapter NSDAR\, The Palmetto Society of Charleston\, The Society of Colonial Wars in the State of South Carolina\, The Society of the Cincinnati of the State of South Carolina\, the South Carolina Historical Society and the Washington Light Infantry. \n  \nAbout the Speaker\nWoody Holton\, Peter and Bonnie McCausland Professor of History at the University of South Carolina\, teaches early American history\, especially the American Revolution\, with a focus on economic history and on African Americans\, Native Americans and women. He has published three award-winning books: Unruly Americans and the Origins of the Constitution (2007)\, a finalist for the National Book Award; Forced Founders: Indians\, Debtors\, Slaves and the Making of the American Revolution in Virginia (1999)\, recipient of the Merle Curti Award in American Social History from the Organization of American Historians; and the Bancroft Prize-winning Abigail Adams (2009)\, which he wrote on a Guggenheim Fellowship. Holton received his B.A. in English from the University of Virginia and his Ph.D. in history from Duke University. \n  \nAbove: This engraving published in 1853 honors Grace and Rachel Martin\, daring sisters-in-law from Ninety-Six\, South Carolina. Disguised in their husbands’ uniforms\, they ambushed at gunpoint a British courier to seize an important dispatch. American Revolution Institute Collections. \n  \n
URL:https://www.americanrevolutioninstitute.org/event/lecture-charleston-feb20/
LOCATION:The Charleston Museum\, 360 Meeting Street\, Charleston\, SC\, 29403\, United States
CATEGORIES:Lectures and Author’s Talks
ATTACH;FMTTYPE=image/jpeg:https://www.americanrevolutioninstitute.org/wp-content/uploads/2020/01/Lecture-Feb-20-2020-Abigail-Adams-and-Americas-Founding-Mothers-PE-L2007D1-Elisabeth-Grace-and-Rachel-Martin-large.jpg
END:VEVENT
END:VCALENDAR