BEGIN:VCALENDAR
VERSION:2.0
PRODID:-//The American Revolution Institute - ECPv5.0.3.1//NONSGML v1.0//EN
CALSCALE:GREGORIAN
METHOD:PUBLISH
X-WR-CALNAME:The American Revolution Institute
X-ORIGINAL-URL:https://www.americanrevolutioninstitute.org
X-WR-CALDESC:Events for The American Revolution Institute
BEGIN:VTIMEZONE
TZID:America/New_York
BEGIN:DAYLIGHT
TZOFFSETFROM:-0500
TZOFFSETTO:-0400
TZNAME:EDT
DTSTART:20230312T070000
END:DAYLIGHT
BEGIN:STANDARD
TZOFFSETFROM:-0400
TZOFFSETTO:-0500
TZNAME:EST
DTSTART:20231105T060000
END:STANDARD
END:VTIMEZONE
BEGIN:VEVENT
DTSTART;TZID=America/New_York:20230818T123000
DTEND;TZID=America/New_York:20230818T130000
DTSTAMP:20260421T153934
CREATED:20230428T203437Z
LAST-MODIFIED:20230817T142352Z
UID:25258-1692361800-1692363600@www.americanrevolutioninstitute.org
SUMMARY:Lunch Bite - Catharine Macaulay’s  An Address to the people of England\, Scotland\, and Ireland\, on the Present Important Crisis of Affairs 
DESCRIPTION:Research Services Librarian Rachel Nellis discusses Catharine Macaulay\, a radical English writer and historian sympathetic to the American cause\, and her 1775 pamphlet\, An Address to the people of England\, Scotland\, and Ireland\, on the Present Important Crisis of Affairs. Using events such as Parliament’s passing of the Stamp Act and the Boston Massacre\, Macaulay’s pamphlet was written as an appeal to Great Britain to change its policies towards the colonies. This Lunch Bite will not only examine the contents within the pamphlet\, but various components of Macaulay’s life and her close friendships with leading figures of the American Revolution\, including John and Abigail Adams and Mercy Otis Warren. \nRegistration is requested. To attend the Lunch Bite in-person at Anderson House\, or to watch virtually\, please use the appropriate form below.\nRegister to Attend the Lunch Bite at Anderson House \nRegister to Attend the Lunch Bite Virtually \n
URL:https://www.americanrevolutioninstitute.org/event/lunch-bite-catharine-macaulays-an-address-to-the-people-of-england-scotland-and-ireland-on-the-present-important-crisis-of-affairs/
LOCATION:Anderson House\, 2118 Massachusetts Ave.\, NW\, Washington\, DC\, 20008\, United States
CATEGORIES:Lunch Bites
ATTACH;FMTTYPE=image/png:https://www.americanrevolutioninstitute.org/wp-content/uploads/2023/04/Screenshot-2023-04-28-at-4.24.07-PM.png
END:VEVENT
END:VCALENDAR