BEGIN:VCALENDAR
VERSION:2.0
PRODID:-//The American Revolution Institute - ECPv5.0.3.1//NONSGML v1.0//EN
CALSCALE:GREGORIAN
METHOD:PUBLISH
X-WR-CALNAME:The American Revolution Institute
X-ORIGINAL-URL:https://www.americanrevolutioninstitute.org
X-WR-CALDESC:Events for The American Revolution Institute
BEGIN:VTIMEZONE
TZID:America/New_York
BEGIN:DAYLIGHT
TZOFFSETFROM:-0500
TZOFFSETTO:-0400
TZNAME:EDT
DTSTART:20190310T070000
END:DAYLIGHT
BEGIN:STANDARD
TZOFFSETFROM:-0400
TZOFFSETTO:-0500
TZNAME:EST
DTSTART:20191103T060000
END:STANDARD
END:VTIMEZONE
BEGIN:VEVENT
DTSTART;TZID=America/New_York:20190419T123000
DTEND;TZID=America/New_York:20190419T130000
DTSTAMP:20260424T140734
CREATED:20190108T142559Z
LAST-MODIFIED:20190108T142559Z
UID:6857-1555677000-1555678800@www.americanrevolutioninstitute.org
SUMMARY:Lunch Bite - The Loyalist Prisoner Experience
DESCRIPTION:Library Assistant Kieran O’Keefe discusses the loyalist prisoner experience during the Revolutionary War featuring an engraving of the notorious underground prison at Simsbury Mines in Connecticut\, published in 1781 in a London periodical. While revolutionaries in New York contended with British forces based in New York City and Canada\, they also faced an internal threat from the state’s loyalist inhabitants. Fearing that loyalists might undermine the Revolution through insurrection or by aiding the British army\, patriot leaders chose to arrest and jail thousands of suspected dissidents. Incarceration became a definitive part of the loyalist experience. \nThe presentation will last approximately 30 minutes with time afterwards for up-close viewing of the engraving. \n
URL:https://www.americanrevolutioninstitute.org/event/lunch-bite-the-loyalist-prisoner-experience/
LOCATION:Anderson House\, 2118 Massachusetts Ave.\, NW\, Washington\, DC\, 20008\, United States
CATEGORIES:Lunch Bites
ATTACH;FMTTYPE=image/jpeg:https://www.americanrevolutioninstitute.org/wp-content/uploads/2019/01/2019-Apr-19-Lunch-Bite-Loyalist-prisoners.jpg
END:VEVENT
END:VCALENDAR