BEGIN:VCALENDAR
VERSION:2.0
PRODID:-//The American Revolution Institute - ECPv5.0.3.1//NONSGML v1.0//EN
CALSCALE:GREGORIAN
METHOD:PUBLISH
X-WR-CALNAME:The American Revolution Institute
X-ORIGINAL-URL:https://www.americanrevolutioninstitute.org
X-WR-CALDESC:Events for The American Revolution Institute
BEGIN:VTIMEZONE
TZID:America/New_York
BEGIN:DAYLIGHT
TZOFFSETFROM:-0500
TZOFFSETTO:-0400
TZNAME:EDT
DTSTART:20220313T070000
END:DAYLIGHT
BEGIN:STANDARD
TZOFFSETFROM:-0400
TZOFFSETTO:-0500
TZNAME:EST
DTSTART:20221106T060000
END:STANDARD
END:VTIMEZONE
BEGIN:VEVENT
DTSTART;TZID=America/New_York:20220819T123000
DTEND;TZID=America/New_York:20220819T130000
DTSTAMP:20260423T130237
CREATED:20220503T235806Z
LAST-MODIFIED:20220810T162252Z
UID:21159-1660912200-1660914000@www.americanrevolutioninstitute.org
SUMMARY:Lunch Bite –  The Patriot’s Monitor 
DESCRIPTION:Director of Education Stacia Smith discusses The Patriot’s Monitor\, an early American primer published in 1810. This textbook contains content “Designed to Impress and Perpetuate the First Principles of the Revolution on the Minds of Youth; Together with Some Pieces Important and Interesting Adapted for the Use of Schools.” This Lunch Bite will explore the history of this teaching aid and its relevance in the modern classroom. This presentation will be held in our research library and last approximately 30 minutes. \nRegistration is requested. To attend the Lunch Bite in-person at Anderson House\, or to watch virtually\, please use the appropriate form below.\nCurrently\, all visitors to Anderson House age 2 and older are required to wear a mask while attending a historical program or visiting the museum or library. Read our full COVID safety guidelines here. \n  \nClick here to attend the Lunch Bite virtually\n  \n
URL:https://www.americanrevolutioninstitute.org/event/lunch-bite-the-patriots-monitor/
LOCATION:Anderson House\, 2118 Massachusetts Ave.\, NW\, Washington\, DC\, 20008\, United States
ATTACH;FMTTYPE=image/jpeg:https://www.americanrevolutioninstitute.org/wp-content/uploads/2022/05/L2021M89-1810-M-The-patriots-monitor-title-page-opening-large-scaled.jpg
END:VEVENT
END:VCALENDAR